BEGIN:VCALENDAR
VERSION:2.0
PRODID:-//Finca - ECPv6.3.3.1//NONSGML v1.0//EN
CALSCALE:GREGORIAN
METHOD:PUBLISH
X-WR-CALNAME:Finca
X-ORIGINAL-URL:https://fincalafurriola.es
X-WR-CALDESC:Events for Finca
REFRESH-INTERVAL;VALUE=DURATION:PT1H
X-Robots-Tag:noindex
X-PUBLISHED-TTL:PT1H
BEGIN:VTIMEZONE
TZID:Europe/Madrid
BEGIN:DAYLIGHT
TZOFFSETFROM:+0100
TZOFFSETTO:+0200
TZNAME:CEST
DTSTART:20250330T010000
END:DAYLIGHT
BEGIN:STANDARD
TZOFFSETFROM:+0200
TZOFFSETTO:+0100
TZNAME:CET
DTSTART:20251026T010000
END:STANDARD
END:VTIMEZONE
BEGIN:VEVENT
DTSTART;TZID=Europe/Madrid:20250222T120000
DTEND;TZID=Europe/Madrid:20250222T200000
DTSTAMP:20260422T041244
CREATED:20250303T184629Z
LAST-MODIFIED:20250303T184629Z
UID:5704-1740225600-1740254400@fincalafurriola.es
SUMMARY:Quelalarí. Baila a la Luna.
DESCRIPTION:
URL:https://fincalafurriola.es/evento/quelalari-baila-a-la-luna/
END:VEVENT
BEGIN:VEVENT
DTSTART;TZID=Europe/Madrid:20250315T120000
DTEND;TZID=Europe/Madrid:20250315T200000
DTSTAMP:20260422T041244
CREATED:20250303T190301Z
LAST-MODIFIED:20250303T190301Z
UID:5714-1742040000-1742068800@fincalafurriola.es
SUMMARY:"il Tuffo" El ViAJE de un CLOWN hacia la NUEVA MASCULiNiDAD
DESCRIPTION:    Espectáculo cómico de la mano de Matteo Cifariello. \n 
URL:https://fincalafurriola.es/evento/il-tuffo-el-viaje-de-un-clown-hacia-la-nueva-masculinidad/
END:VEVENT
BEGIN:VEVENT
DTSTART;VALUE=DATE:20250324
DTEND;VALUE=DATE:20250325
DTSTAMP:20260422T041244
CREATED:20250418T163459Z
LAST-MODIFIED:20250418T164141Z
UID:5738-1742774400-1742860799@fincalafurriola.es
SUMMARY:Actividad Juvenil de Arte & Permacultura
DESCRIPTION:    
URL:https://fincalafurriola.es/evento/actividad-juvenil-de-arte-permacultura/
END:VEVENT
BEGIN:VEVENT
DTSTART;TZID=Europe/Madrid:20250329T120000
DTEND;TZID=Europe/Madrid:20250329T200000
DTSTAMP:20260422T041244
CREATED:20250303T190525Z
LAST-MODIFIED:20250303T190525Z
UID:5717-1743249600-1743278400@fincalafurriola.es
SUMMARY:Recital de Tànit Navarro e Irene Sierra "La Furriola"
DESCRIPTION:Recital de poesía y canto.
URL:https://fincalafurriola.es/evento/recital-de-tanit-navarro-e-irene-sierra-la-furriola/
END:VEVENT
BEGIN:VEVENT
DTSTART;VALUE=DATE:20250415
DTEND;VALUE=DATE:20250421
DTSTAMP:20260422T041244
CREATED:20250418T154156Z
LAST-MODIFIED:20250418T154245Z
UID:5720-1744675200-1745193599@fincalafurriola.es
SUMMARY:XXI Edición de ARGONAUTAS
DESCRIPTION:
URL:https://fincalafurriola.es/evento/xxii-edicion-de-argonautas/
END:VEVENT
BEGIN:VEVENT
DTSTART;TZID=Europe/Madrid:20250510T110000
DTEND;TZID=Europe/Madrid:20250510T150000
DTSTAMP:20260422T041244
CREATED:20250418T161124Z
LAST-MODIFIED:20250418T161124Z
UID:5724-1746874800-1746889200@fincalafurriola.es
SUMMARY:Taller de Recolección & GastroConciencia
DESCRIPTION:
URL:https://fincalafurriola.es/evento/taller-de-recoleccion-gastroconciencia/
END:VEVENT
BEGIN:VEVENT
DTSTART;VALUE=DATE:20250522
DTEND;VALUE=DATE:20250526
DTSTAMP:20260422T041244
CREATED:20250418T161516Z
LAST-MODIFIED:20250418T161516Z
UID:5728-1747872000-1748217599@fincalafurriola.es
SUMMARY:RISILIENCIA
DESCRIPTION:Del 22 al 25 de mayo te invitamos a descubrir Risiliencia un método creado por Matteo Cifariello que utiliza las herramientas del Clown para desarrollar la Inteligencia emocional\, la comunicación empática y mejorar las capacidades comunicativas. \nRegálate 4 días de inmersión en el C.I.F.A. Centro Internacional de Formación Artística\, un lugar mágico en plena Naturaleza! Hay posibilidad de alojamiento y de disfrutar de esquistos menús Ayurvédicos de las manos de Irene Sierra “La Furriola”. \nPlazas limitadas\, reserva la tuya!!! \n*Info y reservas:\naltaformacioncifa@gmail.com\n+34 645 03 56 95
URL:https://fincalafurriola.es/evento/risiliencia/
END:VEVENT
BEGIN:VEVENT
DTSTART;VALUE=DATE:20250612
DTEND;VALUE=DATE:20250616
DTSTAMP:20260422T041244
CREATED:20250418T162922Z
LAST-MODIFIED:20250418T163120Z
UID:5731-1749686400-1750031999@fincalafurriola.es
SUMMARY:Máster Class de TEATRO DE OBJETOS con Andrea Reboledo
DESCRIPTION:
URL:https://fincalafurriola.es/evento/master-class-de-teatro-de-objetos-con-andrea-reboledo/
END:VEVENT
BEGIN:VEVENT
DTSTART;VALUE=DATE:20250701
DTEND;VALUE=DATE:20250710
DTSTAMP:20260422T041245
CREATED:20250717T160201Z
LAST-MODIFIED:20250717T170407Z
UID:5772-1751328000-1752105599@fincalafurriola.es
SUMMARY:Campo estivo con Global Works
DESCRIPTION:Durante las primeras semanas de julio\, Finca La Furriola tendrá el placer de acoger a dos grupos de adolescentes provenientes de Estados Unidos\, en el marco del programa de viajes educativos “Sustainable Communities & Mediterranean Culture” promovido por Global Works. \nDurante su estancia\, la Finca se convertirá en un espacio de intercambio\, aprendizaje y descubrimiento mutuo. Los participantes experimentarán la cotidianidad del entorno rural andaluz a través de actividades en contacto directo con la naturaleza\, momentos de expresión artística y encuentros con la comunidad de Dílar. \nAdemás de desconectarse de la tecnología para conectar con el presente\, los jóvenes tendrán la oportunidad de reflexionar sobre sostenibilidad\, diversidad cultural y participación activa\, a través de una propuesta educativa basada en la experiencia directa. \nConsulta los próximos programas en su sitio web: 👉 https://www.globalworkstravel.com/trip-journals/
URL:https://fincalafurriola.es/evento/global-works-programa-de-viajes-sustainable-communities-mediterranean-culture/
END:VEVENT
BEGIN:VEVENT
DTSTART;TZID=Europe/Madrid:20251015T093000
DTEND;TZID=Europe/Madrid:20251018T133000
DTSTAMP:20260422T041245
CREATED:20250717T151401Z
LAST-MODIFIED:20250820T155419Z
UID:5754-1760520600-1760794200@fincalafurriola.es
SUMMARY:Avner - Master Class de clown
DESCRIPTION:En octubre volverá el Gran Maestro Avner the eccentric a compartir su sabiduría!!! \nEs una oportunidad única para conocer los principios excéntricos\, creados y desarrollados en más de 50 años de experiencia. Si te dedicas a las Artes Escénicas no puedes perder la posibilidad de conocer el método de Avner! \n👉 Master Class en Inglés con traducción al castellano\n👉 Posibilidad de alojamiento\n👉 Posibilidad de menú Ayurvédicos para los almuerzos \nLas plazas son limitadas y se agotan muy rápido! \nInfo y reservas:\naltaformacioncifa@gmail.com\n+34 645 03 56 95
URL:https://fincalafurriola.es/evento/avner-the-eccentric-masterclass-de-clown/
CATEGORIES:events
END:VEVENT
END:VCALENDAR