BEGIN:VCALENDAR
VERSION:2.0
PRODID:-//Finca - ECPv6.3.3.1//NONSGML v1.0//EN
CALSCALE:GREGORIAN
METHOD:PUBLISH
X-ORIGINAL-URL:https://fincalafurriola.es
X-WR-CALDESC:Events for Finca
REFRESH-INTERVAL;VALUE=DURATION:PT1H
X-Robots-Tag:noindex
X-PUBLISHED-TTL:PT1H
BEGIN:VTIMEZONE
TZID:Europe/Madrid
BEGIN:DAYLIGHT
TZOFFSETFROM:+0100
TZOFFSETTO:+0200
TZNAME:CEST
DTSTART:20250330T010000
END:DAYLIGHT
BEGIN:STANDARD
TZOFFSETFROM:+0200
TZOFFSETTO:+0100
TZNAME:CET
DTSTART:20251026T010000
END:STANDARD
END:VTIMEZONE
BEGIN:VEVENT
DTSTART;TZID=Europe/Madrid:20251015T093000
DTEND;TZID=Europe/Madrid:20251018T133000
DTSTAMP:20260426T030340
CREATED:20250717T151401Z
LAST-MODIFIED:20250820T155419Z
UID:5754-1760520600-1760794200@fincalafurriola.es
SUMMARY:Avner - Master Class de clown
DESCRIPTION:En octubre volverá el Gran Maestro Avner the eccentric a compartir su sabiduría!!! \nEs una oportunidad única para conocer los principios excéntricos\, creados y desarrollados en más de 50 años de experiencia. Si te dedicas a las Artes Escénicas no puedes perder la posibilidad de conocer el método de Avner! \n👉 Master Class en Inglés con traducción al castellano\n👉 Posibilidad de alojamiento\n👉 Posibilidad de menú Ayurvédicos para los almuerzos \nLas plazas son limitadas y se agotan muy rápido! \nInfo y reservas:\naltaformacioncifa@gmail.com\n+34 645 03 56 95
URL:https://fincalafurriola.es/evento/avner-the-eccentric-masterclass-de-clown/
CATEGORIES:events
END:VEVENT
END:VCALENDAR